 
BEGIN:VCALENDAR
VERSION:2.0
PRODID:-//TOFTigers - ECPv6.6.4.2//NONSGML v1.0//EN
CALSCALE:GREGORIAN
METHOD:PUBLISH
X-ORIGINAL-URL:https://www.toftigers.org
X-WR-CALDESC:Events for TOFTigers
REFRESH-INTERVAL;VALUE=DURATION:PT1H
X-Robots-Tag:noindex
X-PUBLISHED-TTL:PT1H
BEGIN:VTIMEZONE
TZID:Asia/Kolkata
BEGIN:STANDARD
TZOFFSETFROM:+0530
TZOFFSETTO:+0530
TZNAME:IST
DTSTART:20260101T000000
END:STANDARD
END:VTIMEZONE
BEGIN:VEVENT
DTSTART;VALUE=DATE:20260225
DTEND;VALUE=DATE:20260228
DTSTAMP:20260424T141113
CREATED:20260116T065359Z
LAST-MODIFIED:20260116T065359Z
UID:21579-1771977600-1772236799@www.toftigers.org
SUMMARY:SATTE – 25th - 27th February 2026  Yashobhoomi Convention Centre\, Dwarka\, New Delhi.
DESCRIPTION:
URL:https://www.toftigers.org/event/satte-25th-27th-february-2026-yashobhoomi-convention-centre-dwarka-new-delhi/
LOCATION:Yashobhoomi Convention Center\, Dwarka\, New Delhi\, India
CATEGORIES:Event – Featured event
ATTACH;FMTTYPE=image/jpeg:https://www.toftigers.org/wp-content/uploads/2026/01/SATTE-2026-banner-855-x-400-TOFTTiger-01.jpg
END:VEVENT
END:VCALENDAR